BEGIN:VCALENDAR
VERSION:2.0
PRODID:-//TYPO3/NONSGML News system (news)//EN
BEGIN:VEVENT
TZID:Central Europe Standard Time
UID:news-62960@wiwi.tu-dortmund.de
DTSTAMP:20260420T104053Z

DTSTART:20260504T150000
DTEND:20260528T163000


LOCATION:Physikgebäude / P2-05-416

DESCRIPTION:https://wiwi.tu-dortmund.de/veranstaltungsdetail/disputation-andre-requardt-62960/
SUMMARY:Disputation André Requardt
END:VEVENT
END:VCALENDAR
